BEGIN:VCALENDAR
VERSION:2.0
PRODID:-//Colour me Green - ECPv5.3.2.1//NONSGML v1.0//EN
CALSCALE:GREGORIAN
METHOD:PUBLISH
X-WR-CALNAME:Colour me Green
X-ORIGINAL-URL:https://colourmegreen.net
X-WR-CALDESC:Events for Colour me Green
BEGIN:VTIMEZONE
TZID:Europe/Paris
BEGIN:DAYLIGHT
TZOFFSETFROM:+0100
TZOFFSETTO:+0200
TZNAME:CEST
DTSTART:20220327T010000
END:DAYLIGHT
BEGIN:STANDARD
TZOFFSETFROM:+0200
TZOFFSETTO:+0100
TZNAME:CET
DTSTART:20221030T010000
END:STANDARD
END:VTIMEZONE
BEGIN:VEVENT
DTSTART;TZID=Europe/Paris:20220523T080000
DTEND;TZID=Europe/Paris:20220523T170000
DTSTAMP:20260424T065319
CREATED:20210505T070000Z
LAST-MODIFIED:20211214T153003Z
UID:1696-1653292800-1653325200@colourmegreen.net
SUMMARY:World Turtle Day
DESCRIPTION:World Turtle Day is an annual event that has been taking place since 2000. It was founded by American Tortoise Rescue. \n\n\n\nThe purpose of World Turtle Day is to educate people about the things that they can do to protect the habitats of turtle and tortoises. It is also a celebration of the joy that these reptiles bring to so many people on a daily basis. \n\n\n\nThe American Tortoise Rescue (ATR) is a nonprofit organisation established in 1990 for the protection of all species of turtles and tortoises\, is “shellebrating” its 21st World Turtle Day® on May 23\, 2021.  \n\n\n\nATR created and launched WorldTurtleDay.org to increase respect for and knowledge about one of the world’s oldest creatures. Now observed around the globe\, turtle and tortoise lovers show their appreciation of the special day by taking “shellfies” and “shellebrating” with events and shares on social media. \n\n\n\nThis year’s theme “Turtles Rock!” encourages a worldwide audience to see turtles as more than just rocks with legs. The sentient beings are amazing creatures that outlasted dinosaurs and live 25 to 50 years or more. They feel happiness and pain\, show a true sense of humor\, as well as affection. \n\n\n\nFor more information
URL:https://colourmegreen.net/events/world-turtle-day/
ATTACH;FMTTYPE=image/jpeg:https://colourmegreen.net/wp-content/uploads/2021/05/World-Turtle-Day.jpg
END:VEVENT
END:VCALENDAR