BEGIN:VCALENDAR
VERSION:2.0
PRODID:-//Colour me Green - ECPv5.3.2.1//NONSGML v1.0//EN
CALSCALE:GREGORIAN
METHOD:PUBLISH
X-WR-CALNAME:Colour me Green
X-ORIGINAL-URL:https://colourmegreen.net
X-WR-CALDESC:Events for Colour me Green
BEGIN:VTIMEZONE
TZID:Europe/Paris
BEGIN:DAYLIGHT
TZOFFSETFROM:+0100
TZOFFSETTO:+0200
TZNAME:CEST
DTSTART:20220327T010000
END:DAYLIGHT
BEGIN:STANDARD
TZOFFSETFROM:+0200
TZOFFSETTO:+0100
TZNAME:CET
DTSTART:20221030T010000
END:STANDARD
END:VTIMEZONE
BEGIN:VEVENT
DTSTART;TZID=Europe/Paris:20220922T080000
DTEND;TZID=Europe/Paris:20220922T170000
DTSTAMP:20260423T181139
CREATED:20210616T104500Z
LAST-MODIFIED:20211214T152656Z
UID:1736-1663833600-1663866000@colourmegreen.net
SUMMARY:World Rhino Day
DESCRIPTION:Celebrated each year on September 22nd\, World Rhino Day is an opportunity to raise awareness of this critically endangered species. \n\n\n\nPoaching of rhinos for their horns and habitat loss are huge threats to both white and black rhinos. Most wild African rhinos are now found in just four countries: South Africa\, Namibia\, Zimbabwe and Kenya. Rhinos mainly roam grassland and open savannah. \n\n\n\nRhino poaching has soared over the past decade\, driven by demand for their horns\, mostly in Vietnam. Their horn is believed to have medicinal qualities by some people\, even though it’s just keratin.  \n\n\n\nSadly there are no ‘northern’ white rhinos left in the wild\, and only a handful in captivity. The ‘southern’ white rhino is a conservation success story as its population has bounced back from under a 100 in 1895 to over 20 000 in the wild today. As for the black rhino\, only 5000 are left in the wild today as they have suffered from wide-scale poaching.   \n\n\n\nRhinos are listed as Critically Endangered (EN) on the IUCN Red list of Endangered species.  \n\n\n\nHashtag #WorldRhinoDay \n\n\n\nFor more information
URL:https://colourmegreen.net/events/world-rhino-day/
ATTACH;FMTTYPE=image/jpeg:https://colourmegreen.net/wp-content/uploads/2021/06/World-Rhino-Day.jpg
END:VEVENT
END:VCALENDAR