BEGIN:VCALENDAR
VERSION:2.0
PRODID:-//Colour me Green - ECPv5.3.2.1//NONSGML v1.0//EN
CALSCALE:GREGORIAN
METHOD:PUBLISH
X-WR-CALNAME:Colour me Green
X-ORIGINAL-URL:https://colourmegreen.net
X-WR-CALDESC:Events for Colour me Green
BEGIN:VTIMEZONE
TZID:Europe/Paris
BEGIN:DAYLIGHT
TZOFFSETFROM:+0100
TZOFFSETTO:+0200
TZNAME:CEST
DTSTART:20220327T010000
END:DAYLIGHT
BEGIN:STANDARD
TZOFFSETFROM:+0200
TZOFFSETTO:+0100
TZNAME:CET
DTSTART:20221030T010000
END:STANDARD
END:VTIMEZONE
BEGIN:VEVENT
DTSTART;TZID=Europe/Paris:20220819T080000
DTEND;TZID=Europe/Paris:20220819T170000
DTSTAMP:20260423T193309
CREATED:20210615T220001Z
LAST-MODIFIED:20211214T152802Z
UID:1730-1660896000-1660928400@colourmegreen.net
SUMMARY:World Orangutang Day
DESCRIPTION:International Orangutang Day is celebrated each year to recognise one of the most iconic victims of the palm oil industry.  \n\n\n\nHuman activities have caused severe declines in populations and ranges. Threats to wild orangutan populations include poaching\, habitat destruction because of palm oil cultivation\, and the illegal pet trade.  \n\n\n\nAll three orangutang species of Orangutang are listed as critically endangered on the IUCN Red list of Endangered species. Although exact population counts are difficult to ascertain\, the scientific community generally agrees that there are somewhere between 55\,000 and 65\,000 wild orangutans left. \n\n\n\nA century ago\, Orangutang lived in forests all across South-East Asia\, from southern China to Java. Today wild populations are exclusively found on the islands of Java and Sumatra in Indonesia. \n\n\n\nThese islands are also home to lots of other threatened species – including  the Sumatran tiger\, clouded leopard and Asian elephant. Protecting the orangutan’s home helps those animals too. \n\n\n\nOrangutans are among the most intelligent primates. They use a variety of sophisticated tools and construct elaborate sleeping nests each night from branches and foliage.  \n\n\n\nThe most arboreal of the great apes\, Orangutang spend most of their time in trees. Whilst they are mostly solitary animals\, social bonds occur primarily between mothers and their dependent offspring\, who remain together for the first two years.  \n\n\n\nFrom 1992-2000\, the population of the Sumatran orangutang is considered to have declined by more than 50%. Its relative\, the Bornean orangutang population fell nearly 43 percent in the past decade\, from 35\,000 in 1996 to 20\,000 in 2006. Since these studies were done\, deforestation rates have continued to climb which means the actual populations could be well below these. \n\n\n\nHashtag  #WorldOrangutangDay \n\n\n\nFor more information
URL:https://colourmegreen.net/events/world-orangutang-day/
ATTACH;FMTTYPE=image/jpeg:https://colourmegreen.net/wp-content/uploads/2021/06/World-Orangutang-Day.jpg
END:VEVENT
END:VCALENDAR