BEGIN:VCALENDAR
VERSION:2.0
PRODID:-//Colour me Green - ECPv5.3.2.1//NONSGML v1.0//EN
CALSCALE:GREGORIAN
METHOD:PUBLISH
X-WR-CALNAME:Colour me Green
X-ORIGINAL-URL:https://colourmegreen.net
X-WR-CALDESC:Events for Colour me Green
BEGIN:VTIMEZONE
TZID:Europe/Paris
BEGIN:DAYLIGHT
TZOFFSETFROM:+0100
TZOFFSETTO:+0200
TZNAME:CEST
DTSTART:20220327T010000
END:DAYLIGHT
BEGIN:STANDARD
TZOFFSETFROM:+0200
TZOFFSETTO:+0100
TZNAME:CET
DTSTART:20221030T010000
END:STANDARD
END:VTIMEZONE
BEGIN:VEVENT
DTSTART;TZID=Europe/Paris:20220621T080000
DTEND;TZID=Europe/Paris:20220621T170000
DTSTAMP:20260423T235531
CREATED:20210701T133622Z
LAST-MODIFIED:20211214T152834Z
UID:1743-1655798400-1655830800@colourmegreen.net
SUMMARY:World Giraffe Day
DESCRIPTION:World Giraffe Day is an annual event initiated by the Giraffe Conservation Foundation\, the leading international charity dedicated to giraffe conservation\, to celebrate the tallest animal on the longest day or night of the year. \n\n\n\nThe purpose of the event is to raise awareness and shed a light on the challenges faced by giraffe in the wild (habitat loss and fragmentation\, poaching\, etc.).  \n\n\n\nA century ago\, more than 1 million giraffe roamed across Africa\, but today only a little more than 100k individuals remain in the wild\, in fragmented populations. In 1999\, it was estimated that over 140\,000 giraffes existed in the wild\, but estimations as of 2016 indicate that there are approximately 97\,500 members of Giraffa in the wild\, down from 155\,000 in 1985. \n\n\n\nGiraffes have a scattered range\, which extends from Chad in the north to South Africa in the south\, and from Niger  in the west to Somalia in the east. Giraffes usually inhabit savannahs and woodland.  \n\n\n\nGiraffes are listed as Vulnerable on the IUCN’s Red list. The primary causes for giraffe population declines are habitat loss and direct killing for bushmeat markets. \n\n\n\nThe Giraffe Conservation Foundation is dedicated to a sustainable future for all giraffe populations in the wild. GCF is the only NGO in the world that concentrates solely on the conservation and management of giraffe in the wild throughout Africa. \n\n\n\nHashtags: #WorldGiraffeDay  \n\n\n\nFor more information
URL:https://colourmegreen.net/events/world-giraffe-day/
ATTACH;FMTTYPE=image/jpeg:https://colourmegreen.net/wp-content/uploads/2021/07/World-Giraffe-Day.jpg
END:VEVENT
END:VCALENDAR