BEGIN:VCALENDAR
VERSION:2.0
PRODID:-//Colour me Green - ECPv5.3.2.1//NONSGML v1.0//EN
CALSCALE:GREGORIAN
METHOD:PUBLISH
X-WR-CALNAME:Colour me Green
X-ORIGINAL-URL:https://colourmegreen.net
X-WR-CALDESC:Events for Colour me Green
BEGIN:VTIMEZONE
TZID:Europe/Paris
BEGIN:DAYLIGHT
TZOFFSETFROM:+0100
TZOFFSETTO:+0200
TZNAME:CEST
DTSTART:20220327T010000
END:DAYLIGHT
BEGIN:STANDARD
TZOFFSETFROM:+0200
TZOFFSETTO:+0100
TZNAME:CET
DTSTART:20221030T010000
END:STANDARD
END:VTIMEZONE
BEGIN:VEVENT
DTSTART;TZID=Europe/Paris:20221207T000000
DTEND;TZID=Europe/Paris:20221218T235959
DTSTAMP:20260423T170439
CREATED:20211222T114833Z
LAST-MODIFIED:20211222T114841Z
UID:1850-1670371200-1671407999@colourmegreen.net
SUMMARY:UN Climate Change Conference 2022 (COP 27)
DESCRIPTION:The 27th session of the Conference of the Parties (COP 27) to the UNFCCC is expected to take place in Sharm El-Sheikh\, Egypt.   \n\n\n\nCOP 27 was originally expected to take place from 8-20 November 2021. Due to the COVID-19 pandemic\, COP 26 was rescheduled from November 2020 to November 2021. As a result\, COP 27 will take place from 7-18 November 2022.  \n\n\n\nClick here for more information.
URL:https://colourmegreen.net/events/un-climate-change-conference-2022-cop-27/
LOCATION:Sharm El-Sheikh\, Egypt
ATTACH;FMTTYPE=image/jpeg:https://colourmegreen.net/wp-content/uploads/2021/12/UN-Climate-Conference-COP27-Egypt.jpg
END:VEVENT
END:VCALENDAR