BEGIN:VCALENDAR
VERSION:2.0
PRODID:-//Colour me Green - ECPv5.3.2.1//NONSGML v1.0//EN
CALSCALE:GREGORIAN
METHOD:PUBLISH
X-WR-CALNAME:Colour me Green
X-ORIGINAL-URL:https://colourmegreen.net
X-WR-CALDESC:Events for Colour me Green
BEGIN:VTIMEZONE
TZID:Europe/Paris
BEGIN:DAYLIGHT
TZOFFSETFROM:+0100
TZOFFSETTO:+0200
TZNAME:CEST
DTSTART:20220327T010000
END:DAYLIGHT
BEGIN:STANDARD
TZOFFSETFROM:+0200
TZOFFSETTO:+0100
TZNAME:CET
DTSTART:20221030T010000
END:STANDARD
END:VTIMEZONE
BEGIN:VEVENT
DTSTART;TZID=Europe/Paris:20220916T080000
DTEND;TZID=Europe/Paris:20220916T170000
DTSTAMP:20260423T165442
CREATED:20210616T103721Z
LAST-MODIFIED:20211214T152557Z
UID:1734-1663315200-1663347600@colourmegreen.net
SUMMARY:International Day for the Preservation of the Ozone Layer
DESCRIPTION:This year International Day for the Preservation of the Ozone Layer celebrates 35 years of the Vienna Convention and global ozone layer protection.  \n\n\n\nThe ozone layer\, a fragile shield of gas\, protects the Earth from the harmful portion of the rays of the sun\, thus helping preserve life on the planet. \n\n\n\nLife on Earth would not be possible without sunlight. But the energy emanating from the sun would be too much for life on Earth to thrive were it not for the ozone layer. This stratospheric layer shields Earth from most of the sun’s harmful ultraviolet radiation.  \n\n\n\nIn the late 1970s scientists discovered that humanity was creating a hole in this protective shield and raised the alarm. The hole – caused by ozone-depleting gases (ODSs) used in aerosols and cooling\, such as refrigerators and air-conditioners – was threatening to increase cases of skin cancer and cataracts\, and damage plants\, crops\, and ecosystems. \n\n\n\nIn 1985\, the world’s governments adopted the Vienna Convention for the Protection of the Ozone Layer. Under the Convention’s Montreal Protocol\, governments\, scientists and industry worked together to cut out 99 per cent of all ozone-depleting substances. World Ozone Day\, held on September 16\, celebrates this achievement.  \n\n\n\nFor more information
URL:https://colourmegreen.net/events/international-day-for-the-preservation-of-the-ozone-layer/
ATTACH;FMTTYPE=image/jpeg:https://colourmegreen.net/wp-content/uploads/2021/06/International-Day-for-the-Preservation-of-the-Ozone-Layer.jpg
END:VEVENT
END:VCALENDAR