BEGIN:VCALENDAR
VERSION:2.0
PRODID:-//Colour me Green - ECPv5.3.2.1//NONSGML v1.0//EN
CALSCALE:GREGORIAN
METHOD:PUBLISH
X-WR-CALNAME:Colour me Green
X-ORIGINAL-URL:https://colourmegreen.net
X-WR-CALDESC:Events for Colour me Green
BEGIN:VTIMEZONE
TZID:Europe/Paris
BEGIN:DAYLIGHT
TZOFFSETFROM:+0100
TZOFFSETTO:+0200
TZNAME:CEST
DTSTART:20220327T010000
END:DAYLIGHT
BEGIN:STANDARD
TZOFFSETFROM:+0200
TZOFFSETTO:+0100
TZNAME:CET
DTSTART:20221030T010000
END:STANDARD
END:VTIMEZONE
BEGIN:VEVENT
DTSTART;TZID=Europe/Paris:20220522T080000
DTEND;TZID=Europe/Paris:20220522T170000
DTSTAMP:20260424T080643
CREATED:20210504T213300Z
LAST-MODIFIED:20211214T152633Z
UID:1687-1653206400-1653238800@colourmegreen.net
SUMMARY:International Day for Biological Diversity
DESCRIPTION:The United Nations proclaimed May 22 The International Day for Biological Diversity (IDB) to increase understanding and awareness of biodiversity issues.  \n\n\n\nThe UN General Assembly adopted 22 May as International Day for Biological Diversity\, to commemorate the adoption of the text of the Convention on 22 May 1992 by the Nairobi Final Act of the Conference for the Adoption of the Agreed Text of the Convention on Biological Diversity. \n\n\n\nIn 2021\, the International Day for Biological Diversity is being celebrated under the theme “We’re part of the solution for nature”. The slogan was chosen to be a continuation of the momentum generated last year under the over-arching theme\, “Our solutions are in nature”\, which served as a reminder that biodiversity remains the answer to several sustainable development challenges. From nature-based solutions to climate\, health issues\, food and water security\, and sustainable livelihoods\, biodiversity is the foundation upon which we can build back better. \n\n\n\nFor more information.
URL:https://colourmegreen.net/events/international-day-for-biological-diversity/
ATTACH;FMTTYPE=image/png:https://colourmegreen.net/wp-content/uploads/2021/05/International-Day-for-Biological-Diversity.png
END:VEVENT
END:VCALENDAR