BEGIN:VCALENDAR
VERSION:2.0
PRODID:-//Colour me Green - ECPv5.3.2.1//NONSGML v1.0//EN
CALSCALE:GREGORIAN
METHOD:PUBLISH
X-WR-CALNAME:Colour me Green
X-ORIGINAL-URL:https://colourmegreen.net
X-WR-CALDESC:Events for Colour me Green
BEGIN:VTIMEZONE
TZID:Europe/Paris
BEGIN:DAYLIGHT
TZOFFSETFROM:+0100
TZOFFSETTO:+0200
TZNAME:CEST
DTSTART:20220327T010000
END:DAYLIGHT
BEGIN:STANDARD
TZOFFSETFROM:+0200
TZOFFSETTO:+0100
TZNAME:CET
DTSTART:20221030T010000
END:STANDARD
END:VTIMEZONE
BEGIN:VEVENT
DTSTART;TZID=Europe/Paris:20220326T203000
DTEND;TZID=Europe/Paris:20220326T213000
DTSTAMP:20260424T103734
CREATED:20210305T133503Z
LAST-MODIFIED:20220106T215711Z
UID:1561-1648326600-1648330200@colourmegreen.net
SUMMARY:Earth Hour
DESCRIPTION:Launched by the WWF in 2007\, Earth Hour is one of the world’s largest grassroots movements for the environment. Held every year on the last Saturday of March\, Earth Hour engages millions of people\, in more than 180 countries across the world\, to switch off their lights to show support for our planet.  \n\n\n\nThe event aims to increase awareness and spark global conversations on protecting nature not only to combat the climate crisis\, but to ensure our own health\, happiness\, prosperity and even survival. \n\n\n\nNatural systems are vital for all our futures – and yet\, the rate of global loss of nature during the past 50 years is unprecedented in human history. Nature not only provides us food\, water\, clean air\, and other services worth over US$125 trillion a year – it is also one of our strongest allies against climate change. Protecting nature is one of the most immediate\, powerful\, and cost-effective solutions to the climate crisis. \n\n\n\nToday\, Earth Hour aims to increase awareness and spark global conversations on protecting nature not only to combat the climate crisis\, but to ensure our own health\, happiness\, prosperity and even survival. \n\n\n\nSo wherever you are in the world\, speak up for nature and don’t forget to switch off your lights this Saturday 27th of March at 8:30 pm\, local time.  \n\n\n\nFor more information
URL:https://colourmegreen.net/events/earth-hour/
ATTACH;FMTTYPE=image/jpeg:https://colourmegreen.net/wp-content/uploads/2021/12/Earth-Hour.jpg
END:VEVENT
END:VCALENDAR