BEGIN:VCALENDAR
VERSION:2.0
PRODID:-//Colour me Green - ECPv5.3.2.1//NONSGML v1.0//EN
CALSCALE:GREGORIAN
METHOD:PUBLISH
X-WR-CALNAME:Colour me Green
X-ORIGINAL-URL:https://colourmegreen.net
X-WR-CALDESC:Events for Colour me Green
BEGIN:VTIMEZONE
TZID:Europe/Paris
BEGIN:DAYLIGHT
TZOFFSETFROM:+0100
TZOFFSETTO:+0200
TZNAME:CEST
DTSTART:20220327T010000
END:DAYLIGHT
BEGIN:STANDARD
TZOFFSETFROM:+0200
TZOFFSETTO:+0100
TZNAME:CET
DTSTART:20221030T010000
END:STANDARD
END:VTIMEZONE
BEGIN:VEVENT
DTSTART;TZID=Europe/Paris:20220301T000000
DTEND;TZID=Europe/Paris:20220303T235959
DTSTAMP:20260424T151911
CREATED:20211222T103848Z
LAST-MODIFIED:20211222T103856Z
UID:1809-1646092800-1646351999@colourmegreen.net
SUMMARY:9th Annual World Ocean Summit
DESCRIPTION:The 9th edition of the Annual World Ocean Summit will take place from March 1st to 3rd 2022 in Lisbon\, Portugal. \n\n\n\nThis global event will bring together the broadest cross-section of the ocean community\, from businesses to scientists\, government\, investors\, and civil society.  \n\n\n\nIt aims to change how business is done in the ocean\, shaping and advancing the way in which governments\, businesses\, and conservation organisations work together to fashion the “blue economy”.
URL:https://colourmegreen.net/events/9th-annual-world-ocean-summit/
LOCATION:Lisbon\, Portugal
ATTACH;FMTTYPE=image/jpeg:https://colourmegreen.net/wp-content/uploads/2021/12/9th-Annual-World-Ocean-Summit-2022.jpg
END:VEVENT
END:VCALENDAR