BEGIN:VCALENDAR
VERSION:2.0
PRODID:-//Colour me Green - ECPv5.3.2.1//NONSGML v1.0//EN
CALSCALE:GREGORIAN
METHOD:PUBLISH
X-WR-CALNAME:Colour me Green
X-ORIGINAL-URL:https://colourmegreen.net
X-WR-CALDESC:Events for Colour me Green
BEGIN:VTIMEZONE
TZID:Europe/Paris
BEGIN:DAYLIGHT
TZOFFSETFROM:+0100
TZOFFSETTO:+0200
TZNAME:CEST
DTSTART:20220327T010000
END:DAYLIGHT
BEGIN:STANDARD
TZOFFSETFROM:+0200
TZOFFSETTO:+0100
TZNAME:CET
DTSTART:20221030T010000
END:STANDARD
END:VTIMEZONE
BEGIN:VEVENT
DTSTART;TZID=Europe/Paris:20220502T000000
DTEND;TZID=Europe/Paris:20220506T235959
DTSTAMP:20260424T123236
CREATED:20211223T144630Z
LAST-MODIFIED:20211223T144709Z
UID:1856-1651449600-1651881599@colourmegreen.net
SUMMARY:15th World Forestry Congress 2022
DESCRIPTION:Eliminating emissions from deforestation and promoting forest regrowth and landscape restoration could reduce global net emissions by up to 30 percent. Over the next decade\, forests could provide as much as 50 percent of the cost-effective mitigation available.  \n\n\n\nTaking place under the theme\, Building a Green\, Healthy and Resilient Future with Forests\, the World Forestry Congress will focus on six sub-themes\, including reversing forest loss\, sustainable use of nature-based solutions and forest resources\, and forest monitoring and data collection.   \n\n\n\nClick here for more information.
URL:https://colourmegreen.net/events/15th-world-forestry-congress-2022/
LOCATION:Seoul\, Republic of Korea
ATTACH;FMTTYPE=image/jpeg:https://colourmegreen.net/wp-content/uploads/2021/12/15th-World-Forestry-Congress-2022.jpg
END:VEVENT
END:VCALENDAR