BEGIN:VCALENDAR
VERSION:2.0
PRODID:-//Colour me Green - ECPv5.3.2.1//NONSGML v1.0//EN
CALSCALE:GREGORIAN
METHOD:PUBLISH
X-WR-CALNAME:Colour me Green
X-ORIGINAL-URL:https://colourmegreen.net
X-WR-CALDESC:Events for Colour me Green
BEGIN:VTIMEZONE
TZID:Europe/Paris
BEGIN:DAYLIGHT
TZOFFSETFROM:+0100
TZOFFSETTO:+0200
TZNAME:CEST
DTSTART:20220327T010000
END:DAYLIGHT
BEGIN:STANDARD
TZOFFSETFROM:+0200
TZOFFSETTO:+0100
TZNAME:CET
DTSTART:20221030T010000
END:STANDARD
END:VTIMEZONE
BEGIN:VEVENT
DTSTART;TZID=Europe/Paris:20220907T000000
DTEND;TZID=Europe/Paris:20220908T235959
DTSTAMP:20260423T180804
CREATED:20211222T113610Z
LAST-MODIFIED:20211222T113611Z
UID:1845-1662508800-1662681599@colourmegreen.net
SUMMARY:10th International Conference on Sustainable Development
DESCRIPTION:Organised by the European Center of Sustainable Development\, in collaboration with the Canadian Institute of Technology\, the 10th ICSD 2022 International Conference on Sustainable Development will take place from 7th to 8th September 2022 in Rome\, Italy. \n\n\n\nThis year’s theme will be “Creating a unified foundation for Sustainable Development: research\, practice and education” and will particularly focus on the Environmental\, Economic and Socio-Cultural aspects of Sustainability. \n\n\n\nThe 2022 Conference will once again provide a forum for the sharing of ideas\, presentation of research findings\, and discussion of professional issues relevant to Sustainability Science. \n\n\n\nClick here for more information.
URL:https://colourmegreen.net/events/10th-international-conference-on-sustainable-development/
LOCATION:Rome\, Italy
ATTACH;FMTTYPE=image/jpeg:https://colourmegreen.net/wp-content/uploads/2021/12/10th-International-Conference-on-Sustainable-Development.jpg
END:VEVENT
END:VCALENDAR